BEGIN:VCALENDAR
VERSION:2.0
PRODID:-//Community Action Council of Lewis, Mason, and Thurston Counties - ECPv6.15.20//NONSGML v1.0//EN
CALSCALE:GREGORIAN
METHOD:PUBLISH
X-WR-CALNAME:Community Action Council of Lewis, Mason, and Thurston Counties
X-ORIGINAL-URL:https://caclmt.org
X-WR-CALDESC:Events for Community Action Council of Lewis, Mason, and Thurston Counties
REFRESH-INTERVAL;VALUE=DURATION:PT1H
X-Robots-Tag:noindex
X-PUBLISHED-TTL:PT1H
BEGIN:VTIMEZONE
TZID:UTC
BEGIN:STANDARD
TZOFFSETFROM:+0000
TZOFFSETTO:+0000
TZNAME:UTC
DTSTART:20220101T000000
END:STANDARD
END:VTIMEZONE
BEGIN:VEVENT
DTSTART;TZID=UTC:20230322T080000
DTEND;TZID=UTC:20230322T170000
DTSTAMP:20260421T180210
CREATED:20230322T162435Z
LAST-MODIFIED:20230322T163900Z
UID:3323-1679472000-1679504400@caclmt.org
SUMMARY:Training
DESCRIPTION:  \n 
URL:https://caclmt.org/event/training/
LOCATION:WA
END:VEVENT
END:VCALENDAR