BEGIN:VCALENDAR
VERSION:2.0
PRODID:-//Community Action Council of Lewis, Mason, and Thurston Counties - ECPv6.15.20//NONSGML v1.0//EN
CALSCALE:GREGORIAN
METHOD:PUBLISH
X-WR-CALNAME:Community Action Council of Lewis, Mason, and Thurston Counties
X-ORIGINAL-URL:https://caclmt.org
X-WR-CALDESC:Events for Community Action Council of Lewis, Mason, and Thurston Counties
REFRESH-INTERVAL;VALUE=DURATION:PT1H
X-Robots-Tag:noindex
X-PUBLISHED-TTL:PT1H
BEGIN:VTIMEZONE
TZID:UTC
BEGIN:STANDARD
TZOFFSETFROM:+0000
TZOFFSETTO:+0000
TZNAME:UTC
DTSTART:20220101T000000
END:STANDARD
END:VTIMEZONE
BEGIN:VEVENT
DTSTART;TZID=UTC:20230518T093000
DTEND;TZID=UTC:20230518T130000
DTSTAMP:20260421T094315
CREATED:20230406T153533Z
LAST-MODIFIED:20230406T153533Z
UID:3439-1684402200-1684414800@caclmt.org
SUMMARY:WFTC at Olympia Farmers Market
DESCRIPTION:The Community Action Council of Lewis\, Mason\, & Thurston Counties has partnered with Washington State to teach you about the Working Family Tax Credit (WFTC)\, or help you file your application. Individuals and families may receive up to $1\,200 back if they meet certain eligibility requirements. Get money back on the taxes you’ve already paid\, and we’ll strive to connect you with tax preparers who specialize in helping individuals and families maximize their refunds. \nCome join us\, May 18th\, from 9:30AM to 1:00PM\, to learn more about the program!
URL:https://caclmt.org/event/wftc-at-olympia-farmers-market-3/
LOCATION:Olympia Farmers Market\, 700 Capitol Way N\, Olympia\, WA\, 98501\, United States
CATEGORIES:General
ORGANIZER;CN="Community Action Council of Lewis%2C Mason & Thurston Counties":MAILTO:info@caclmt.org
END:VEVENT
END:VCALENDAR