BEGIN:VCALENDAR
VERSION:2.0
PRODID:-//Community Action Council of Lewis, Mason, and Thurston Counties - ECPv6.15.20//NONSGML v1.0//EN
CALSCALE:GREGORIAN
METHOD:PUBLISH
X-WR-CALNAME:Community Action Council of Lewis, Mason, and Thurston Counties
X-ORIGINAL-URL:https://caclmt.org
X-WR-CALDESC:Events for Community Action Council of Lewis, Mason, and Thurston Counties
REFRESH-INTERVAL;VALUE=DURATION:PT1H
X-Robots-Tag:noindex
X-PUBLISHED-TTL:PT1H
BEGIN:VTIMEZONE
TZID:America/Denver
BEGIN:DAYLIGHT
TZOFFSETFROM:-0700
TZOFFSETTO:-0600
TZNAME:MDT
DTSTART:20220313T090000
END:DAYLIGHT
BEGIN:STANDARD
TZOFFSETFROM:-0600
TZOFFSETTO:-0700
TZNAME:MST
DTSTART:20221106T080000
END:STANDARD
BEGIN:DAYLIGHT
TZOFFSETFROM:-0700
TZOFFSETTO:-0600
TZNAME:MDT
DTSTART:20230312T090000
END:DAYLIGHT
BEGIN:STANDARD
TZOFFSETFROM:-0600
TZOFFSETTO:-0700
TZNAME:MST
DTSTART:20231105T080000
END:STANDARD
BEGIN:DAYLIGHT
TZOFFSETFROM:-0700
TZOFFSETTO:-0600
TZNAME:MDT
DTSTART:20240310T090000
END:DAYLIGHT
BEGIN:STANDARD
TZOFFSETFROM:-0600
TZOFFSETTO:-0700
TZNAME:MST
DTSTART:20241103T080000
END:STANDARD
END:VTIMEZONE
BEGIN:VEVENT
DTSTART;TZID=America/Denver:20230506T110000
DTEND;TZID=America/Denver:20230506T150000
DTSTAMP:20260419T163416
CREATED:20230406T153211Z
LAST-MODIFIED:20230406T153346Z
UID:3436-1683370800-1683385200@caclmt.org
SUMMARY:WFTC at Tumwater Cultural Community Fair
DESCRIPTION:The Community Action Council of Lewis\, Mason\, & Thurston Counties has partnered with Washington State to teach you about the Working Family Tax Credit (WFTC)\, or help you file your application. Individuals and families may receive up to $1\,200 back if they meet certain eligibility requirements. Get money back on the taxes you’ve already paid\, and we’ll strive to connect you with tax preparers who specialize in helping individuals and families maximize their refunds. \nCome join us\, May 6th\, from 11:00AM to 3:00PM\, to learn more about the program!
URL:https://caclmt.org/event/wftc-at-tumwater-cultural-community-fair/
LOCATION:ASHHO Cultural/Community Fair\, 5757 Littlerock Rd SW\, Tumwater\, WA\, 98512\, United States
CATEGORIES:General
ORGANIZER;CN="Community Action Council of Lewis%2C Mason & Thurston Counties":MAILTO:info@caclmt.org
END:VEVENT
END:VCALENDAR